BEGIN:VCALENDAR
VERSION:2.0
PRODID:-//Fesztelen Fesztivál - ECPv6.0.0.1//NONSGML v1.0//EN
CALSCALE:GREGORIAN
METHOD:PUBLISH
X-WR-CALNAME:Fesztelen Fesztivál
X-ORIGINAL-URL:https://fesztelen-fesztival.hu
X-WR-CALDESC:Events for Fesztelen Fesztivál
REFRESH-INTERVAL;VALUE=DURATION:PT1H
X-Robots-Tag:noindex
X-PUBLISHED-TTL:PT1H
BEGIN:VTIMEZONE
TZID:UTC
BEGIN:STANDARD
TZOFFSETFROM:+0000
TZOFFSETTO:+0000
TZNAME:UTC
DTSTART:20190101T000000
END:STANDARD
END:VTIMEZONE
BEGIN:VEVENT
DTSTART;TZID=UTC:20190802T100000
DTEND;TZID=UTC:20190802T200000
DTSTAMP:20260420T165101
CREATED:20190729T094506Z
LAST-MODIFIED:20190729T094506Z
UID:831-1564740000-1564776000@fesztelen-fesztival.hu
SUMMARY:Théta Healing konzultáció - Király Krisztina
DESCRIPTION:
URL:https://fesztelen-fesztival.hu/esemenyek/theta-healing-konzultacio-kiraly-krisztina/
END:VEVENT
BEGIN:VEVENT
DTSTART;TZID=UTC:20190802T100000
DTEND;TZID=UTC:20190802T200000
DTSTAMP:20260420T165101
CREATED:20190729T094212Z
LAST-MODIFIED:20190729T094212Z
UID:825-1564740000-1564776000@fesztelen-fesztival.hu
SUMMARY:Asztrológiai tanácsadás - Megyeri Nóra
DESCRIPTION:
URL:https://fesztelen-fesztival.hu/esemenyek/asztrologiai-tanacsadas-megyeri-nora/
END:VEVENT
BEGIN:VEVENT
DTSTART;TZID=UTC:20190802T100000
DTEND;TZID=UTC:20190802T200000
DTSTAMP:20260420T165101
CREATED:20190729T093814Z
LAST-MODIFIED:20190729T093814Z
UID:818-1564740000-1564776000@fesztelen-fesztival.hu
SUMMARY:Acces Bars kezelés - Mustó Ágnes
DESCRIPTION:
URL:https://fesztelen-fesztival.hu/esemenyek/acces-bars-kezeles-musto-agnes/
END:VEVENT
BEGIN:VEVENT
DTSTART;TZID=UTC:20190802T090000
DTEND;TZID=UTC:20190802T110000
DTSTAMP:20260420T165101
CREATED:20190721T094832Z
LAST-MODIFIED:20190723T062359Z
UID:751-1564736400-1564743600@fesztelen-fesztival.hu
SUMMARY:Fesztelenül két-keréken a Föld körül - előadás\, beszélgetés - Illés Adorján
DESCRIPTION:Sziasztok!\nIllés Adorján vagyok. 4 év és 10 nap alatt körbebicóztam a Földet. Rengeteg csodaszép helyen jártam\,  bicóztam dzsungelekben Ázsiában\, sivatagban Ausztráliában\,  hegyekben Ekvádorban és megannyi óceánparton. A gyönyörű tájak mellett tán még jobban lenyűgözött a belső utazás. Ahogy megtapasztaltam a mindennapos kihívások által azt\, h sokkal többre vagyok képes\, mint ahogy azt érzékelni tudom. Ráéreztem lényünk és az egész élet végtelenségére.  S arra is\,h mindannyian teremtők vagyunk. Ezekről és az Indiana Jones filmekbe illő kalandjaimról szeretnék nektek mesélni\,  amik által megváltozott az életem. \nAz általam készített csodás fotókból adományért cserébe válogathattok! \nVárlak szeretettel: Adorján
URL:https://fesztelen-fesztival.hu/esemenyek/fesztelenul-a-fold-korul-eloadas-beszelgetes/
ATTACH;FMTTYPE=image/jpeg:https://fesztelen-fesztival.hu/wp-content/uploads/2019/07/67128644_481458479087989_6931292791506993152_n.jpg
END:VEVENT
BEGIN:VEVENT
DTSTART;TZID=UTC:20190802T070000
DTEND;TZID=UTC:20190802T080000
DTSTAMP:20260420T165101
CREATED:20190610T083603Z
LAST-MODIFIED:20190613T122458Z
UID:393-1564729200-1564732800@fesztelen-fesztival.hu
SUMMARY:Hatha Jóga - Balatoni Brigitta
DESCRIPTION:A meztelenséget tekintve jelentős hatással volt rám az az élmény\, amikor évekkel ezelőtt először voltam egy naturalista kempingben. (Azóta is\, ha tehetem csak ilyen helyen nyaralok.) Akkor tapasztaltam meg\, vagyis tudatosult erősen bennem az\, hogy azáltal\, hogy a ruhát viseljük a személyiségünk egy részét mutatjuk csak\, azt amit mutatni akarunk és azt amelyik részünkkel éppen azonosulni tudunk. Ez is az önmagunk kifejezésének egy módja\, ugyanakkor be is határoljuk magunkat\, mert a stílus\, amit kifejezünk a felületen az egyes ruhadarabokkal\, vagy kiegészítőkkel visszahat a belső állapotunkra és a viselkedési mintáinkat is befolyásolja. Tapasztalataim szerint ilyen környezetben az emberek közötti kapcsolatfelvétel is mélyebb szinten történik\, mert a test szabaddá tételével a lélek is felszabadul. Már az\, hogy reggel nem kellett azon gondolkodjak\, hogy mit vegyek fel egyfajta megszabadultság érzéssel töltött el. Ebben az állapotban jógázni sokkal eredményesebb\, mivel nagyobb befogadóképesség jelenik meg és az oldás lehetősége is nagyobb. (Megjegyzem\, hogy a nem hagyományos\, a szokványostól eltérő megtapasztalásnak már önmagában is van egy pezsdítő\, felszabadító ereje.)\nA meztelenül végzett jóga gyakorlás során a fizikai test a maga természetességében jelenik meg és ez jelentősen hat a lélek állapotára is. Spontán módon lélek szintjén is egy natur\, valós\, letisztult minőség ébred meg\, ami előmozdítja a saját korlátozó félelmeinken való túllépést. Hozzájárul önmagad mélyebb szintű elfogadásához és segít harmóniába kerülni saját mikrokozmoszoddal. A fizikai test lecsupaszításával\, felfedésével\, azzal\, hogy azt a maga természetességében viseled a lelked is kinyílik és nyitottabbá válik. A nyitottabb állapot hatására befogadóbbá válsz\, így könnyebben kapcsolatba tudsz kerülni a kifinomultabb energiaformákkal. Ez az állapot segíti az önmagad felé fordulást\, a befele figyelést\, egy emelkedett lelkiállapot megjelenését. A fizikai test szabaddá tételével\, mintha az egonk egy részétől is megválnánk és ez egy szabadabb\, korlátoktól mentes lelkiállapot kialakításához vezet. A belső harmónia és egységállapot kialakítása pedig az élet minden területén pozitívan hat.\nAzt javaslom\, hogy ha ezek a gondolatok valamilyen okból felkeltették az érdeklődésedet\, azért\, mert megérintett a mélyebb tartalom\, vagy amiatt\, mert kíváncsivá tett a szokványostól eltérő megtapasztalás lehetősége\, de akkor is\, ha ellenérzést vált ki belőled ez a fajta tapasztalatszerzés (az is egy érintettség)\, vagy egyszerűen a „miért ne…” hozzáállás motivál gyere el és próbáld ki. \nBalatoni Brigi – jógaoktató
URL:https://fesztelen-fesztival.hu/esemenyek/hatha-joga-balatoni-brigitta/
LOCATION:„Szabadság” Nyílt Tér
ATTACH;FMTTYPE=image/jpeg:https://fesztelen-fesztival.hu/wp-content/uploads/2019/06/IMG_20190610_103350.jpg
END:VEVENT
BEGIN:VEVENT
DTSTART;TZID=UTC:20190801T220000
DTEND;TZID=UTC:20190801T233000
DTSTAMP:20260420T165101
CREATED:20190610T082240Z
LAST-MODIFIED:20190721T095225Z
UID:386-1564696800-1564702200@fesztelen-fesztival.hu
SUMMARY:Tábortűz
DESCRIPTION:Az első nap méltó zárása.\nJó lehetőség közös zenélésre\, beszélgetésekre\, ismerkedésre.
URL:https://fesztelen-fesztival.hu/esemenyek/tabortuz/
LOCATION:„Szabadság” Nyílt Tér
ATTACH;FMTTYPE=image/jpeg:https://fesztelen-fesztival.hu/wp-content/uploads/2019/06/campfire_edit.jpg
END:VEVENT
BEGIN:VEVENT
DTSTART;TZID=UTC:20190801T200000
DTEND;TZID=UTC:20190801T220000
DTSTAMP:20260420T165101
CREATED:20190721T094652Z
LAST-MODIFIED:20190721T094652Z
UID:749-1564689600-1564696800@fesztelen-fesztival.hu
SUMMARY:Filmvetítés
DESCRIPTION:
URL:https://fesztelen-fesztival.hu/esemenyek/filmvetites/
END:VEVENT
BEGIN:VEVENT
DTSTART;TZID=UTC:20190801T180000
DTEND;TZID=UTC:20190801T193000
DTSTAMP:20260420T165101
CREATED:20190610T050159Z
LAST-MODIFIED:20190701T173325Z
UID:344-1564682400-1564687800@fesztelen-fesztival.hu
SUMMARY:Tabuk nélkül - avagy tudatos szexualitás a mindennapokban - Balatoni Brigitta
DESCRIPTION:Kérdezz\, és én felelek…. \nElőadással egybekötött interaktív beszélgetés. \nA program elsődleges célja\, hogy betekintést adjon és megismertessen a tantrikus masszázs\, azon belül pedig a jóni és a lingam masszázs alapjaival\, valamint annak gyakorlati és elméleti hátterével. Beszélgetünk az érintés szerepéről és fontosságáról. Mivel a masszázs során hangsúlyt fektetünk az intimitással és a szexualitással kapcsolatos problémák feldolgozására\, ezért ez a témakör is szerves részét képezi az előadásnak. Ezen keresztül pedig beszélünk a férfi\, illetve a női szexualitásról\, illetve annak jellegzetességeiről.\nÉrdekes kérdések… Te is tehetsz fel bármilyen kérdést. Minden kérdésre válaszolunk. Nálunk nincs tabu\, olyan\, amiről nem beszélünk. \nPár évvel ezelőtt egy ihletett állapotban kaptam azt a „feladatot”\,hogy hozzak létre egy intimitással és szexualitással foglalkozó központot. A hely az IntimTÉR nevet kapta.\nEkkor már jó ideje foglalkoztam a tantrikus filozófiával\, ami az egész életemet áthatotta és meghatározta. Az eltelt évek alatt sok mindent tanultam és tanulok a mai napig\, amik hozzásegítenek önmagam mélyebb megismeréséhez és a tapasztalatok hiteles átadásához.\nAz IntimTÉR azért jött létre\, hogy olyan szolgáltatásokat és eszközöket kínáljunk neked\, amelyek hozzásegítenek a szexualitásod tudatosabb megéléséhez és a szexuális energiáid megébresztéséhez.  \nMiért is beszélünk erről…? A szexuális energia a rendelkezésünkre álló legerőteljesebb energia. Ezt az erőt használva növelheted testi\, érzelmi és spirituális tudatosságodat. A tantra egy eszköz\, amely az életünk minden területén megtanít a feltétel nélküli szeretetre\, épp ezért a tantra a szexet csak közvetítő eszközként használja. Az ebben a formában megtapasztalt szexualitás hozzásegíti a nőket az orgazmuskészség kialakításához\, illetve növeléséhez\, valamint a férfiakat az elnyújtott\, hosszú ideig tartó\, intenzív szexuális élmények átéléséhez. Ennek a szemléletnek az elsajátításával az ember jobb szeretővé válik\, és több örömöt nyújt számára (és partnerének) a szexuális kapcsolat.\nAz előadás során lehetőség van kérdéseket feltenni.\nAz előadás és a beszélgetések során a következő témákat fogjuk érinteni:\nMi a tantra?\nMiből áll a tantra masszázs?\nBeszélgetés a lingam masszázsról\, vagyis a férfi nemiszerv masszírozásáról.\nJóni masszázs.\nAz orgazmus.\nAz érintés szerepe.\nMegnyílás és bizalom.\nIntimitás a kapcsolatokban. \nBalatoni Brigitta és Cserép Imre\nÉrintésművész\, tantra masszázs oktatók
URL:https://fesztelen-fesztival.hu/esemenyek/tabuk-nelkul-avagy-tudatos-szexualitas-a-mindennapokban/
END:VEVENT
BEGIN:VEVENT
DTSTART;TZID=UTC:20190801T150000
DTEND;TZID=UTC:20190801T180000
DTSTAMP:20260420T165101
CREATED:20190721T094505Z
LAST-MODIFIED:20190721T094505Z
UID:747-1564671600-1564682400@fesztelen-fesztival.hu
SUMMARY:Női kör előadás és workshop
DESCRIPTION:
URL:https://fesztelen-fesztival.hu/esemenyek/noi-kor-eloadas-es-workshop/
END:VEVENT
BEGIN:VEVENT
DTSTART;TZID=UTC:20190801T130000
DTEND;TZID=UTC:20190801T140000
DTSTAMP:20260420T165101
CREATED:20190612T110821Z
LAST-MODIFIED:20190721T094217Z
UID:481-1564664400-1564668000@fesztelen-fesztival.hu
SUMMARY:Fesztivál megnyitó
DESCRIPTION:
URL:https://fesztelen-fesztival.hu/esemenyek/fesztival-megnyito/
LOCATION:„Szabadság” Nyílt Tér
END:VEVENT
END:VCALENDAR